BEGIN:VCALENDAR
VERSION:2.0
CALSCALE:GREGORIAN
PRODID:-//MyApp//Calendar 1.0//EN
BEGIN:VEVENT
METHOD:PUBLISH
UID:8775@regionalniportaly.cz
DTSTAMP:20260423T211239Z
DTSTART;VALUE=DATE:20170121
DTEND;VALUE=DATE:20170122
SUMMARY:Městský ples
DESCRIPTION:Kulturní dům. Předprodej vstupenek v městské knihovně od 6. ledna 2017
LOCATION:Ivanovice na Hané
END:VEVENT
END:VCALENDAR