BEGIN:VCALENDAR
VERSION:2.0
CALSCALE:GREGORIAN
PRODID:-//MyApp//Calendar 1.0//EN
BEGIN:VEVENT
METHOD:PUBLISH
UID:8702@regionalniportaly.cz
DTSTAMP:20260423T211501Z
DTSTART;VALUE=DATE:20170113
DTEND;VALUE=DATE:20170114
SUMMARY:Ples gymnázia
DESCRIPTION:13. leden 2017\nv 20.00 h\nPles gymnázia\nSokolovna Šlapanice
LOCATION:Šlapanice
END:VEVENT
END:VCALENDAR