BEGIN:VCALENDAR
VERSION:2.0
CALSCALE:GREGORIAN
PRODID:-//MyApp//Calendar 1.0//EN
BEGIN:VEVENT
METHOD:PUBLISH
UID:8700@regionalniportaly.cz
DTSTAMP:20260423T211128Z
DTSTART;VALUE=DATE:20170121
DTEND;VALUE=DATE:20170122
SUMMARY:Sokolský ples
DESCRIPTION:21. leden 2017 od 20.00 h\nSokolský ples\nSokolovna Šlapanice
LOCATION:Šlapanice
END:VEVENT
END:VCALENDAR