BEGIN:VCALENDAR
VERSION:2.0
CALSCALE:GREGORIAN
PRODID:-//MyApp//Calendar 1.0//EN
BEGIN:VEVENT
METHOD:PUBLISH
UID:8490@regionalniportaly.cz
DTSTAMP:20260423T173629Z
DTSTART;VALUE=DATE:20161219
DTEND;VALUE=DATE:20161220
SUMMARY:Leo Anderle a další letci RAF
DESCRIPTION:Vzpomínka na rodáky z Vyškovska v řadách RAF. Ve spolupráci s Muzejním spolkem ve Vyškově.
LOCATION:Vyškov
END:VEVENT
END:VCALENDAR