BEGIN:VCALENDAR
VERSION:2.0
CALSCALE:GREGORIAN
PRODID:-//MyApp//Calendar 1.0//EN
BEGIN:VEVENT
METHOD:PUBLISH
UID:65884@regionalniportaly.cz
DTSTAMP:20260424T164306Z
DTSTART;VALUE=DATE:20260602
DTEND;VALUE=DATE:20260603
SUMMARY:ZUŠ talentové zkoušky
DESCRIPTION:
LOCATION:Rousínov
END:VEVENT
END:VCALENDAR