BEGIN:VCALENDAR
VERSION:2.0
CALSCALE:GREGORIAN
PRODID:-//MyApp//Calendar 1.0//EN
BEGIN:VEVENT
METHOD:PUBLISH
UID:65867@regionalniportaly.cz
DTSTAMP:20260424T085045Z
DTSTART;VALUE=DATE:20260510
DTEND;VALUE=DATE:20260511
SUMMARY:Real-iTy? – Lenka Půžová
DESCRIPTION:Real-iTy? je tanečně-pohybové sólo\, která se zabývá otázkou\, co je to&nbsp\;REALITA. Jak dlouho trvá? Co znamená v subjektivně zkresleném světě každého z nás? Otevírá téma dočasnosti a pomíjivosti\, zkreslení pohledu na totožnou věc očima různých pozorovatelů. Je naše realita skutečná či žijeme den po dni proměněný odkazem na minulost\, která nás stále ovlivňuje\, i když už realitou není – nebo je…? Performance je formou osobního vyjádření ženy-matky žijící ve Střední Evropě\, z povzdálí pozorující válečné dění na Blízkém Východě v paralele k dění v naší společnosti. Vnímání živých zkušeností toho\, jak se lidský osud může změnit z vteřiny na vteřinu\, pokládání si otázky do jaké míry je jedinec schopný svoji realitu “tvarovat” a do jaké míry je mu “dána“.Jedním ze záměrů projektu je rozšiřování povědomí o životě na Palestinském území a v této věci podpora brněnského kolektivu&nbsp\;Proti dehumanizaci: případ Palestiny a Izraele\, který toto téma formou přednášek\, diskuzí a veřejných setkání vnáší do veřejného prostoru.Taneční zóna – Reflexe\, Simona HendrychováOpera+ – Recenze\, Kateřina Šalounová&nbsp\;Po začátku představení nebude umožněn vstup do hlediště. Hodinu před začátkem bude otevřený INDUSTRA divadelní bar\, který zůstane otevřený i po představení podle zájmu návštěvníků.&nbsp\;Tvůrčí týmLENKA PŮŽOVÁKoncept\, tanec\, videoBARBORA LIŠKADramaturgická podporaPRATYAY RAHAZvukMILA VAŠÍČKOVÁFotoMAXIM POLLUKSOVTechnická výpomoc
LOCATION:Brno
END:VEVENT
END:VCALENDAR