BEGIN:VCALENDAR
VERSION:2.0
CALSCALE:GREGORIAN
PRODID:-//MyApp//Calendar 1.0//EN
BEGIN:VEVENT
METHOD:PUBLISH
UID:65861@regionalniportaly.cz
DTSTAMP:20260424T120811Z
DTSTART;VALUE=DATE:20260528
DTEND;VALUE=DATE:20260529
SUMMARY:Michael Parker: SLANÉ POLIBKY
DESCRIPTION:Situační komedie divadelní společnosti Háta přináší divákům svižnou podívanou plnou záměn\, omylů a nečekaných situací. Děj se odehrává v přímořském hotelu\, vše se začne komplikovat ve chvíli\, kdy zmizí organizátorka obřadů a do hry vstoupí nelegální hazard\, přísná tchýně i domnělý tajný agent. „Slané polibky“ tak nabízejí lehkou\, divácky atraktivní komedii\, která s nadhledem ukazuje\, že láska si často najde cestu i v tom největším chaosu.Hrají: Adéla&nbsp\;Gondíková / Regina&nbsp\;Řandová\, Roman&nbsp\;Štolpa / Radek&nbsp\;Valenta\, Betka&nbsp\;Stanková / Kristýna&nbsp\;Kociánová\, Petr&nbsp\;Buchta / Jaroslav&nbsp\;Slánský\, Olga&nbsp\;"Háta"&nbsp\;Želenská / Ivana&nbsp\;Andrlová / Pavla&nbsp\;Vojáčková\, Hana&nbsp\;Kusnjerová / Vítězslava&nbsp\;Karolová\,&nbsp\;Viktor&nbsp\;Limr / Juraj&nbsp\;Bernáth
LOCATION:Brno
END:VEVENT
END:VCALENDAR