BEGIN:VCALENDAR
VERSION:2.0
CALSCALE:GREGORIAN
PRODID:-//MyApp//Calendar 1.0//EN
BEGIN:VEVENT
METHOD:PUBLISH
UID:65848@regionalniportaly.cz
DTSTAMP:20260424T120741Z
DTSTART;VALUE=DATE:20260516
DTEND;VALUE=DATE:20260517
SUMMARY:Zlámal / Pálka / Micenko // Ponava
DESCRIPTION:Návštěva ze švýcarské Basileje v osobě bubeníka Václava Pálky nabude svého kulturního zhodnocení klubovým koncertem v cafe Ponava. Ve spojení s hráči brněnské jazzové scény Zlámalem (sax) a Micenkem (bass) zahrají ve formátu jazzového tria. Lze očekávat hudbu vycházející z tradice jazzové avantgardy\,&nbsp\; delikátní i nekompromisně energickou\, každopádně skrze&nbsp\; specifické hudební kvality zmíněných hráčů.web: https://www.pavelzlamal.com/Vstupné 200\,- v předprodeji\, 250\,- na místě\, zážitky k nezaplacení 🔥 🔥 🔥
LOCATION:Brno
END:VEVENT
END:VCALENDAR