BEGIN:VCALENDAR
VERSION:2.0
CALSCALE:GREGORIAN
PRODID:-//MyApp//Calendar 1.0//EN
BEGIN:VEVENT
METHOD:PUBLISH
UID:64029@regionalniportaly.cz
DTSTAMP:20260421T161530Z
DTSTART;VALUE=DATE:20260501
DTEND;VALUE=DATE:20260502
SUMMARY:Ďábel nosí Pradu 2
DESCRIPTION:
LOCATION:Měnín
END:VEVENT
END:VCALENDAR