BEGIN:VCALENDAR
VERSION:2.0
CALSCALE:GREGORIAN
PRODID:-//MyApp//Calendar 1.0//EN
BEGIN:VEVENT
METHOD:PUBLISH
UID:63783@regionalniportaly.cz
DTSTAMP:20260424T085106Z
DTSTART;VALUE=DATE:20260521
DTEND;VALUE=DATE:20260522
SUMMARY:Nouvo Testamento | Soft Vein
DESCRIPTION:𝗡𝗨𝗢𝗩𝗢 𝗧𝗘𝗦𝗧𝗔𝗠𝗘𝗡𝗧𝗢Trio Nuovo Testamento\, působící mezi Los Angeles a Boloňou\, si během několika let podmanilo taneční parkety svými temně laděnými popovými hity s příchutí italo diska. Po vydání dnes už kultovního coldwave EP Exposure v roce 2019 (Avant! Records) následovalo oceňované album New Earth\, které vtrhlo na scénu s elegantními klubovými prvky inspirovanými osmdesátými lety\, nakažlivými rytmy a výraznou dávkou synth-popu. První dvě vinylové edice po 500 kusech zmizely během několika hodin a nahrávka byla napříč žánry označována za jedno z nejzásadnějších undergroundových alb roku 2021.Debutové EP Exposure představilo kapelu jako výrazný coldwave objev a rychle z ní udělalo stálici goth nocí. Teprve album New Earth z roku 2021 však naplno ukázalo jejich sílu v oblasti temného popu a vystřelilo trio mezi nejrychleji rostoucí jména alternativní scény. Barevná exploze vintage klubových zvuků\, pulzujících syntezátorů a moderní popové preciznosti si získala uznání napříč scénou. Vlastním nákladem vydané Love Lines (2023) a turné po boku Molchat Doma a The Soft Moon potvrdily dlouhodobý potenciál kapely a otevřely cestu k remixovým spolupracím s projekty jako Drab Majesty\, Curses či Scowl i k nabité koncertní aktivitě.Rok 2025 znamenal další výrazný posun – nové EP Trouble představilo dosud nejvyzrálejší a nejodvážnější materiál kapely.„Tahle deska se neschovává. Je zvědavá\, vzdoruje a chce věřit v budoucnost. Trouble mluví o posunech a zlomech v nás samotných a odvažuje se chtít něco jiného – něco hravého\, něco skutečného.“Singly „Picture Perfect“ a „Dream On“ shrnují inspirace osmdesátými a devadesátými lety\, které jsou kapele blízké – propojují freestyle\, synth-pop i alternativní hudbu do soudržného a tanečně nakažlivého celku. Díky křišťálově čisté moderní produkci a svěžímu songwritingovému rukopisu si Nuovo Testamento vybudovali zvuk\, který je okamžitě rozpoznatelný a jednoznačně jejich vlastní.&nbsp\;𝗦𝗢𝗙𝗧 𝗩𝗘𝗜𝗡SOFT VEIN\, temně laděný sólový projekt hudebníka Justina Chamberlaina z Kalifornie\, debutoval koncem roku 2022 dvojicí singlů – strašidelným „GIVEUPTHEGHOST“ a jeho industriálně zabarveným následovníkem „VIOLENTIA“. Kombinací vlivů cold wave\, industrialu a moderní darkwave vytváří SOFT VEIN „živý obraz zoufalství a touhy ve tmě\, ovšem s podivně romantickým nádechem.“Zvuk SOFT VEIN je místy naléhavý\, syrový a nebezpečný\; jindy zase osamělý\, toužebný a temně romantický. Minimalistické bicí automaty\, kovově znějící syntetická perkusivní vrstva\, číhající syntezátorové basové linky a bohaté aranže syntezátorů a kytar se spojují do zrnitých obrazů lásky a chtíče v dark roomu.https://softvein.bandcamp.com
LOCATION:Brno
END:VEVENT
END:VCALENDAR