BEGIN:VCALENDAR
VERSION:2.0
CALSCALE:GREGORIAN
PRODID:-//MyApp//Calendar 1.0//EN
BEGIN:VEVENT
METHOD:PUBLISH
UID:63692@regionalniportaly.cz
DTSTAMP:20260422T094731Z
DTSTART;VALUE=DATE:20260411
DTEND;VALUE=DATE:20260412
SUMMARY:Jarní rodinný bál
DESCRIPTION:RODINNÝ PLES opravdu pro celou rodinu!\n \nPřijďte si užít odpoledne a večer plný dobré živé hudby\, pobavit se u rodinných her\, ochutnat skvělé občerstvení i zažít napětí při losování tomboly.. a mnohem více!\n \nZveme Vás již na čtvrtý ročník plesu\, kde se můžete cítit i obléct slavnostně\, ležérně nebo i přijít v masce :-) Prostě tak\, jak se cítíte dobře a pohodlně.\n \nNečekejte dechovku\, osvědčená kapela JPS hraje oblíbené československé i zahraniční hity.   \n \nAby si ples užila celá rodina\, bude vám k dispozici dětský koutek v salónku.\n \nPro třetí a další dítě není třeba kupovat vstupenku\, má vstup zdarma.\n \nTĚŠÍME SE NA VÁS!
LOCATION:Olšany
END:VEVENT
END:VCALENDAR