BEGIN:VCALENDAR
VERSION:2.0
CALSCALE:GREGORIAN
PRODID:-//MyApp//Calendar 1.0//EN
BEGIN:VEVENT
METHOD:PUBLISH
UID:63117@regionalniportaly.cz
DTSTAMP:20260423T110032Z
DTSTART;VALUE=DATE:20260529
DTEND;VALUE=DATE:20260530
SUMMARY:Dětské odpoledne
DESCRIPTION:Dětské odpoledne v rámci Dnů Slavkova\nZámek Slavkov – Austerlitz srdečně zve všechny děti i jejich rodiče na Dětské odpoledne\, které se uskuteční v pátek 29. května 2026 od 15:00 do 18:00 v prostorách zámeckého nádvoří a Severních koníren.\nAkce je součástí programu Dnů Slavkova a nabídne pestrý a hravý program pro malé i větší návštěvníky. Těšit se můžete na sportovní olympiádu pro děti\, která prověří jejich šikovnost\, rychlost i týmového ducha.\nO zábavu se postará také Divadlo Kejkle\, které přiveze veselá a hravá představení plná humoru a interakce s dětským publikem. Chybět nebude ani skákací hrad\, malování na obličej\, nebo kreativní dílnička\, kde si děti mohou vyzkoušet vlastní tvoření a odnést si malý výrobek na památku.\nPřijďte si užít odpoledne plné pohybu\, smíchu a tvoření v příjemné atmosféře slavkovského zámku. Těšíme se na vás.\nVstup na akci je zdarma\, zpoplatněné jsou jednotlivé aktivity.
LOCATION:Slavkov u Brna
END:VEVENT
END:VCALENDAR