BEGIN:VCALENDAR
VERSION:2.0
CALSCALE:GREGORIAN
PRODID:-//MyApp//Calendar 1.0//EN
BEGIN:VEVENT
METHOD:PUBLISH
UID:62855@regionalniportaly.cz
DTSTAMP:20260422T100512Z
DTSTART;VALUE=DATE:20260228
DTEND;VALUE=DATE:20260301
SUMMARY:Karneval pro děti - REJ STRAŠIDEL - nový termín!
DESCRIPTION:Karneval pro děti - REJ STRAŠIDEL - nový termín!Po vyprodání dopoledního termínu lektorka předškolních programů Hana Šimůnková ve spolupráci s YAMAHA MUSIC SCHOOL Brno a Hudebními nadšenci\, z.s. vás a vaše děti srdečně zve na Karneval &nbsp\;pro děti č. 2&nbsp\;- na téma REJ STRAŠIDEL.Těšíme se na malé skřítky\, čertíky\, čaroděje a čarodějnice\, bílé paní nebo ježibaby…. Naše karnevaly jsou jedinečné - program je "ušitý na míru" dětem z hudebních přípravek\, malým i předškolním. Programem vás spolu s lektorkou provázejí a zpívají bývalí i současní žáci&nbsp\;YAMAHA MUSIC SCHOOL Brno.Primárně je karneval určený pro děti od 2 do 6 let\, ale bavit se budou určitě i mladší školáci. A samozřejmě také rodiče! Budeme moc&nbsp\;rádi\, když ve strašidelném kostýmu přijde celá rodina.&nbsp\;Karneval je otevřený i pro děti\, které&nbsp\;hudební školu&nbsp\;YAMAHA MUSIC SCHOOL Brno nenavštěvují.Vstupné je jednotné\, jen si zakupte\, prosím\, odpovídající počet vstupenek pro děti 2 - 8 let a pro ostatní. Je to jen pro naši informaci\, kolik na karnevale bude malých dětí. Děti do 18 měsíců věku vstupné neplatí. Děkujeme.
LOCATION:Šlapanice
END:VEVENT
END:VCALENDAR