BEGIN:VCALENDAR
VERSION:2.0
CALSCALE:GREGORIAN
PRODID:-//MyApp//Calendar 1.0//EN
BEGIN:VEVENT
METHOD:PUBLISH
UID:62491@regionalniportaly.cz
DTSTAMP:20260422T094900Z
DTSTART;VALUE=DATE:20260220
DTEND;VALUE=DATE:20260221
SUMMARY:Citová hodnota
DESCRIPTION:
LOCATION:Měnín
END:VEVENT
END:VCALENDAR