BEGIN:VCALENDAR
VERSION:2.0
CALSCALE:GREGORIAN
PRODID:-//MyApp//Calendar 1.0//EN
BEGIN:VEVENT
METHOD:PUBLISH
UID:62455@regionalniportaly.cz
DTSTAMP:20260423T123124Z
DTSTART;VALUE=DATE:20260705
DTEND;VALUE=DATE:20260828
SUMMARY:Tábory u koní 2026
DESCRIPTION:LETNÍ POBYTY 2026 Přinášíme informace k letním táborů pro rok 2026. Letos proběhne 7 turnusů\, z toho 3 příměstské a 4 klasické se spaním. Tábory označené písmenem P jsou příměstské\, K znamená klasické.\nLetošní turnusy:1. 5.7 - 11.7.2026 - K\, vedoucí Šárka (sarka@jalovydvur.cz)2. 12.7 - 18.7.2026 -K\, vedoucí Šárka (sarka@jalovydvur.cz)3. 20.7 - 24.7.2026 - P\, vedoucí Dana (kone@jalovydvur.cz)4. 2.8- 8.8.2026 - K\, vedoucí Terka (terka@jalovydvur.cz)5. 9.8 - 15.8.2026 - K\, vedoucí Áďa (ada@jalovydvur.cz)6. 17.8 - 21.8.2026 - P\, vedoucí Dana (kone@jalovydvur.cz)7. 24.8 - 28.8.2026 - P\, vedoucí Stela (stela.delinova@gmail.com)Věkové rozmezí: 6 - 13 letMinimální počet dětí: 10Maximální počet dětí: 20Cena turnusu: 7200 Kč za klasický\, 4 800 Kč za příměstskýČas příměstského tábora: 8 - 17 od pondělí do pátkuPlatba: záloha 2000 Kč se zasláním přihlášky (zašlete prosím mail s dotazem na tábor\, my vám pošleme zpět přihlášku s číslem účtu a informacemi ke zbytku platby).
LOCATION:Heršpice
END:VEVENT
END:VCALENDAR