BEGIN:VCALENDAR
VERSION:2.0
CALSCALE:GREGORIAN
PRODID:-//MyApp//Calendar 1.0//EN
BEGIN:VEVENT
METHOD:PUBLISH
UID:62150@regionalniportaly.cz
DTSTAMP:20260422T113948Z
DTSTART;VALUE=DATE:20260228
DTEND;VALUE=DATE:20260301
SUMMARY:Karneval pro děti - REJ STRAŠIDEL
DESCRIPTION:Karneval pro děti - REJ STRAŠIDELDOPOLEDNÍ TERMÍN je již VYPRODANÝ! Nově jsme vypsali odpolední termín. Vstupenky můžete zakoupit zde:&nbsp\;https://www.smsticket.cz/vstupenky/66763-karneval-pro-deti-rej-strasidel-novy-termin-sokolovna-slapanice?utm_campaign=smsticket-prodejni-odkazLektorka předškolních programů Hana Šimůnková ve spolupráci s YAMAHA MUSIC SCHOOL Brno a Hudebními nadšenci\, z.s. vás a vaše děti srdečně zve na Karneval pro děti - tentokrát na téma REJ STRAŠIDEL.&nbsp\;Těšíme se na malé skřítky\, čertíky\, čaroděje a čarodějnice\, bílé paní nebo ježibaby…. Naše karnevaly jsou jedinečné - program je "ušitý na míru" dětem z hudebních přípravek\, malým i předškolním. Programem vás spolu s lektorkou provázejí a zpívají bývalí i současní žáci&nbsp\;YAMAHA MUSIC SCHOOL Brno.Primárně je karneval určený pro děti od 2 do 6 let\, ale bavit se budou určitě i mladší školáci. A samozřejmě také rodiče! Budeme moc&nbsp\;rádi\, když ve strašidelném kostýmu přijde celá rodina.&nbsp\;Karneval je otevřený i pro děti\, které&nbsp\;hudební školu&nbsp\;YAMAHA MUSIC SCHOOL Brno nenavštěvují.Vstupné je jednotné\, jen si zakupte\, prosím\, odpovídající počet vstupenek pro děti 2 - 8 let a pro ostatní. Je to jen pro naši informaci\, kolik na karnevale bude malých dětí. Děti do 18 měsíců věku vstupné neplatí. Děkujeme.&nbsp\;&nbsp\;
LOCATION:Šlapanice
END:VEVENT
END:VCALENDAR