BEGIN:VCALENDAR
VERSION:2.0
CALSCALE:GREGORIAN
PRODID:-//MyApp//Calendar 1.0//EN
BEGIN:VEVENT
METHOD:PUBLISH
UID:61837@regionalniportaly.cz
DTSTAMP:20260424T114144Z
DTSTART;VALUE=DATE:20260221
DTEND;VALUE=DATE:20260222
SUMMARY:Motoples Sekáč - Swapmeet 2026
DESCRIPTION:30. ročník tradičního motoplesu Sekáč nyní v Brně - Modřicích.Tradičně se můžete těšit na burzu\, která začne ve 12:00 hodin. Od 17:00 hodin pak na Motoples \, kde vystoupí skupiny LUCIÁNI a VĚŘEJNÁ ZKOUŠKA. O půlnoci proběhne bohatá tombola od našich sponzorů.&nbsp\;POZOR: lístky lze zakoupit pouze v předprodeji zde na SMS ticket!!!
LOCATION:Modřice
END:VEVENT
END:VCALENDAR