BEGIN:VCALENDAR
VERSION:2.0
CALSCALE:GREGORIAN
PRODID:-//MyApp//Calendar 1.0//EN
BEGIN:VEVENT
METHOD:PUBLISH
UID:61296@regionalniportaly.cz
DTSTAMP:20260422T100620Z
DTSTART;VALUE=DATE:20260225
DTEND;VALUE=DATE:20260226
SUMMARY:Zdeněk Junák a Bokomara trio
DESCRIPTION:Zdeňek Junák a skupina Luboše Javůrka Bokomara Trio.Povídání\, veselé i vážné historky nejen ze seriálu Četnické humoresky\,ale i z divadelního prostředí i ze života herce\, doprovázené písněmi folkovéhudební skupiny BOKOMARA TRIO\, která působí na hudební scéně už přes čtyřicet let.
LOCATION:Měnín
END:VEVENT
END:VCALENDAR