BEGIN:VCALENDAR
VERSION:2.0
CALSCALE:GREGORIAN
PRODID:-//MyApp//Calendar 1.0//EN
BEGIN:VEVENT
METHOD:PUBLISH
UID:59709@regionalniportaly.cz
DTSTAMP:20260424T121509Z
DTSTART;VALUE=DATE:20260522
DTEND;VALUE=DATE:20260524
SUMMARY:PonavaFest 2026: Park Side of the Moon
DESCRIPTION:PonavaFest 2026:&nbsp\;Park Side of the Moon!Výjimečný hudební zážitek&nbsp\;v Brně! Již po jedenácté.Celým letošním ročníkem provází ambasador Dalibor Buš.Připravte se na tři dny hudby z celého světa.&nbsp\;Vedle známých hvězd nové výjimečné objevy\, které v tuzemských lineupech běžně nenajdete.V rámci literárního programu jedinečné hlasy nejmladší básnické generace.Performeři z Česka i zahraničí.Animovaný film ve spolupráci s FAMU a ozvěny Anifilmu.&nbsp\;PROGRAMČtvrtek 21.5.2025&nbsp\;18:00 Martin Forman: Struktura vědomí (vernisáž&nbsp\;Ponava Cafe)20:00 Láska opravdivá:&nbsp\;Lotři\, zbojníci a vyvrženciPátek 22.5.202616:00&nbsp\;Lucie Tomsa a Divadlo 3+kk: Lekce s Jane17:30&nbsp\;Rajtaraj18:30&nbsp\;Tea a Lisa: Spolubydly (klauniáda)19:30&nbsp\;Majkls &amp\; friends&nbsp\;20:30&nbsp\;Čočka21:00&nbsp\;Putan Club (IT-FR)21:45 Magnis - Fire show22:00&nbsp\;Radim Babák22:30&nbsp\;NixiesSobota 23.5.202613:00&nbsp\;Decidrámy: Polámaný vrabčák&nbsp\;14:00&nbsp\;Prune15:30&nbsp\;Martina Trchová &amp\; Band&nbsp\;16:00&nbsp\;Thea Sedmidubská (poezie:&nbsp\;Motýli v hořícím lese)17:00&nbsp\;The Naive Collective&nbsp\;18:00&nbsp\;Jan Horský (poezie:&nbsp\;Motýli v hořícím lese)18:30&nbsp\;Bladderstones + Vladimír Václavek&nbsp\;20:00&nbsp\;Tim Postovit (poezie:&nbsp\;Motýli v hořícím lese)20:30&nbsp\;Den Der Hale (SWE)&nbsp\;21:30 Ozvěny Anifilmu: Boys Go To Jupiter21:30 Jan Lamram21:45 Magnis - Fire show22:30&nbsp\;Dunaj &amp\; Jana Vébrová&nbsp\;Neděle 24.5.202610:00 Meditace za mír14:00&nbsp\;Divadlo DIP: Plavba tělem14:30 Marta Svobodová15:00&nbsp\;Darina Alster15:30&nbsp\;Divadlo Potají: Bropodcast&nbsp\;15:30&nbsp\;Jakub Orel Tomáš&nbsp\;16:00&nbsp\;Kateřina Olivová16:30&nbsp\;Janoušek &amp\; Wróblewski quartet16:30&nbsp\;David Helán17:00&nbsp\;Vladimír Havlík17:00&nbsp\;Filorodu17:30&nbsp\;Jan Karpíšek18:00&nbsp\;Jana Gazdagová18:00 Vít Klusák18:30 Trio Character Rytual (A.&nbsp\;Janasik\,&nbsp\;R.&nbsp\;Kisanaj\, P.&nbsp\;Kumor\, J.&nbsp\;R.&nbsp\;Skarboń)19:00 Performance: Jiří Surůvka + Petr Lysáček19:15 Mary Halvorson Canis Major (USA)19:30&nbsp\;TrioDé21:00&nbsp\;Sausage of Lovers20:45 Savina Yannatou &amp\; Primavera en Salonico with Lamia Bedioui: Watersong (GR-TR)​Doprovodný program:&nbsp\;Formanův malířský workshopWorkshop akro jógyWorkshop žonglování pro děti i dospěléMonika Meliva: Lekce QiGong / meditaceMagnis - Fire show&nbsp\;Program pro děti:&nbsp\;Malování na obličejZaplétání copánkůWorkhop žonglováníOdpolední bloky animovaných filmůDivadlo DIP: Plavba tělemTea a Lisa: Spolubydly (klauniáda)Decidrámy: Polámaný vrabčák&nbsp\;&nbsp\;&nbsp\;Změna programu vyhrazena.Martin Forman: Struktura vědomí
LOCATION:Brno
END:VEVENT
END:VCALENDAR