BEGIN:VCALENDAR
VERSION:2.0
CALSCALE:GREGORIAN
PRODID:-//MyApp//Calendar 1.0//EN
BEGIN:VEVENT
METHOD:PUBLISH
UID:59673@regionalniportaly.cz
DTSTAMP:20260423T043953Z
DTSTART;VALUE=DATE:20251104
DTEND;VALUE=DATE:20251105
SUMMARY:Slavnost nové hliněné pece v Pozořicích
DESCRIPTION:Na zahradě Lesní mateřské školy Stromík a Lesního klubu Jezerka v Pozořicích vzniká nová hliněná pec – a to si zaslouží oslavu!\nSlavnost se uskuteční v úterý 4. listopadu od 15:00 hod. ve Školkové zahradě Stromíku a Jezerky\, Hostěnická 626\, Pozořice.\nPořádá: Kavyl z. s. ve spolupráci s LMŠ Stromík\, Lesním klubem a Ekocentrem Jezerka.\nVíce informací o akci naleznete na: www.lesnikavyl.cz.
LOCATION:Pozořice
END:VEVENT
END:VCALENDAR