BEGIN:VCALENDAR
VERSION:2.0
CALSCALE:GREGORIAN
PRODID:-//MyApp//Calendar 1.0//EN
BEGIN:VEVENT
METHOD:PUBLISH
UID:59443@regionalniportaly.cz
DTSTAMP:20260422T102018Z
DTSTART;VALUE=DATE:20251228
DTEND;VALUE=DATE:20251229
SUMMARY:Vánoční koncert Dej Nám Akord – DNA
DESCRIPTION:Zažijte kouzlo Vánoc v čistých tónech lidského hlasu. Skupina&nbsp\;Dej Nám Akord – DNA Brno je vokálním (a cappella) souborem\, který do rajhradského kláštera přichází s programem skladeb oslavujících vánoční radostnou zvěst. Program koncertu tvoří skladby Adama Michny z Otradovic\, autorské kompozice Tomáše Přikryla a výběr lidových koled\, které společně vytvářejí hudební oslavu radostné zvěsti Vánoc.
LOCATION:Rajhrad
END:VEVENT
END:VCALENDAR