BEGIN:VCALENDAR
VERSION:2.0
CALSCALE:GREGORIAN
PRODID:-//MyApp//Calendar 1.0//EN
BEGIN:VEVENT
METHOD:PUBLISH
UID:58313@regionalniportaly.cz
DTSTAMP:20260422T113749Z
DTSTART;VALUE=DATE:20251003
DTEND;VALUE=DATE:20251004
SUMMARY:Heidi\, děvčátko z hor: Legenda o rysovi
DESCRIPTION:
LOCATION:Měnín
END:VEVENT
END:VCALENDAR