BEGIN:VCALENDAR
VERSION:2.0
CALSCALE:GREGORIAN
PRODID:-//MyApp//Calendar 1.0//EN
BEGIN:VEVENT
METHOD:PUBLISH
UID:57863@regionalniportaly.cz
DTSTAMP:20260424T135515Z
DTSTART;VALUE=DATE:20251015
DTEND;VALUE=DATE:20251016
SUMMARY:NC&T Šatník pro mámy každého věku / host Slávka Mžíček
DESCRIPTION:Networking coffee &amp\; tea jsou inspirativní setkání pro dospělé i dospělé s dětmi.Host: Slávka Mžíček\, módní stylistka\, která nás provede šatníkem pro mámy každého věku. Mámy na mateřské\, rodičovské i po ukončení této etapy a nástupu do práce.Networking začíná v 9:30\, scházet se je možné od 9:00.Sejdeme se v sále kavárny Slunečnice.Program:09:00 - 09:30 - příchod09:30 - 10:00 - představení všech účastníků networkingu10:00 - 11:00 - Slávka Mžíček11:00 - 11:30 - volný networking\, rozloučeníTěší se na vás Kačka Eichi Bilíková\, Lucie Bulová\, Slávka Mžíček&nbsp\;
LOCATION:Rajhrad
END:VEVENT
END:VCALENDAR