BEGIN:VCALENDAR
VERSION:2.0
CALSCALE:GREGORIAN
PRODID:-//MyApp//Calendar 1.0//EN
BEGIN:VEVENT
METHOD:PUBLISH
UID:5780@regionalniportaly.cz
DTSTAMP:20260423T183248Z
DTSTART;VALUE=DATE:20160207
DTEND;VALUE=DATE:20160208
SUMMARY:Dětský maškarní ples
DESCRIPTION:
LOCATION:Heršpice
END:VEVENT
END:VCALENDAR