BEGIN:VCALENDAR
VERSION:2.0
CALSCALE:GREGORIAN
PRODID:-//MyApp//Calendar 1.0//EN
BEGIN:VEVENT
METHOD:PUBLISH
UID:5777@regionalniportaly.cz
DTSTAMP:20260423T110253Z
DTSTART;VALUE=DATE:20160220
DTEND;VALUE=DATE:20160221
SUMMARY:Minikarneval v Křenovicích
DESCRIPTION:
LOCATION:Křenovice
END:VEVENT
END:VCALENDAR