BEGIN:VCALENDAR
VERSION:2.0
CALSCALE:GREGORIAN
PRODID:-//MyApp//Calendar 1.0//EN
BEGIN:VEVENT
METHOD:PUBLISH
UID:5775@regionalniportaly.cz
DTSTAMP:20260423T093439Z
DTSTART;VALUE=DATE:20160130
DTEND;VALUE=DATE:20160131
SUMMARY:Obecní ples v Křenovicích
DESCRIPTION:
LOCATION:Křenovice
END:VEVENT
END:VCALENDAR