BEGIN:VCALENDAR
VERSION:2.0
CALSCALE:GREGORIAN
PRODID:-//MyApp//Calendar 1.0//EN
BEGIN:VEVENT
METHOD:PUBLISH
UID:57616@regionalniportaly.cz
DTSTAMP:20260422T113658Z
DTSTART;VALUE=DATE:20250917
DTEND;VALUE=DATE:20250918
SUMMARY:NC&T Posílení imunity přirozenou cestou / host Dana Kučerová
DESCRIPTION:Networking coffee &amp\; tea jsou inspirativní setkání pro dospělé i dospělé s dětmi.Host: Dana Kučerová\, která s námi projde přirozené posílení imunity před zimou\, a to pomocí DOTEKu-POHYBu-DECHu.&nbsp\; www.danakucerova.czNetworking začíná v 9:30\, scházet se je možné od 9:00.Sál kavárny Slunečnice.Program:09:00 - 09:30 - příchod09:30 - 10:00 - představení všech účastníků networkingu10:00 - 11:00 - Dotek-Pohyb-Dech s Danou Kučerovou11:00 - 11:30 - volný networking\, rozloučeníTěší se na vás Kačka Eichi Bilíková\, Lucie Bulová\, Dana Kučerová
LOCATION:Rajhrad
END:VEVENT
END:VCALENDAR