BEGIN:VCALENDAR
VERSION:2.0
CALSCALE:GREGORIAN
PRODID:-//MyApp//Calendar 1.0//EN
BEGIN:VEVENT
METHOD:PUBLISH
UID:5712@regionalniportaly.cz
DTSTAMP:20260423T173559Z
DTSTART;VALUE=DATE:20160214
DTEND;VALUE=DATE:20160215
SUMMARY:Valentýnský maškarní bál
DESCRIPTION:
LOCATION:Rousínov
END:VEVENT
END:VCALENDAR