BEGIN:VCALENDAR
VERSION:2.0
CALSCALE:GREGORIAN
PRODID:-//MyApp//Calendar 1.0//EN
BEGIN:VEVENT
METHOD:PUBLISH
UID:56927@regionalniportaly.cz
DTSTAMP:20260422T114005Z
DTSTART;VALUE=DATE:20250919
DTEND;VALUE=DATE:20250920
SUMMARY:Karavan
DESCRIPTION:
LOCATION:Měnín
END:VEVENT
END:VCALENDAR