BEGIN:VCALENDAR
VERSION:2.0
CALSCALE:GREGORIAN
PRODID:-//MyApp//Calendar 1.0//EN
BEGIN:VEVENT
METHOD:PUBLISH
UID:56924@regionalniportaly.cz
DTSTAMP:20260422T113817Z
DTSTART;VALUE=DATE:20250905
DTEND;VALUE=DATE:20250906
SUMMARY:Zlouni 2
DESCRIPTION:
LOCATION:Měnín
END:VEVENT
END:VCALENDAR