BEGIN:VCALENDAR
VERSION:2.0
CALSCALE:GREGORIAN
PRODID:-//MyApp//Calendar 1.0//EN
BEGIN:VEVENT
METHOD:PUBLISH
UID:5687@regionalniportaly.cz
DTSTAMP:20260423T194210Z
DTSTART;VALUE=DATE:20160220
DTEND;VALUE=DATE:20160221
SUMMARY:Městský ples v Rousínově
DESCRIPTION:
LOCATION:Rousínov
END:VEVENT
END:VCALENDAR