BEGIN:VCALENDAR
VERSION:2.0
CALSCALE:GREGORIAN
PRODID:-//MyApp//Calendar 1.0//EN
BEGIN:VEVENT
METHOD:PUBLISH
UID:56860@regionalniportaly.cz
DTSTAMP:20260422T113802Z
DTSTART;VALUE=DATE:20250925
DTEND;VALUE=DATE:20250926
SUMMARY:Sandra Pogodová - Úhel pohledu
DESCRIPTION:Můžete se těšit na inspirativní povídání Sandry Pogodové.\n\nSandra je ženou\, která vyzařuje gejzíry energie a její smích je něco\, co vás naprosto uchvátí. \n\nJejí pozitivní přístup nás povzbuzuje k tomu\, abychom se přijímali takoví\, jací jsme\, a neměli obavy z názorů druhých.\n\nSdílení a poučení z osobních příběhů ze života a vzájemné inspirování se na cestě k duchovním přeměnám.\nHlavně vše s humorem a nadhledem
LOCATION:Modřice
END:VEVENT
END:VCALENDAR