BEGIN:VCALENDAR
VERSION:2.0
CALSCALE:GREGORIAN
PRODID:-//MyApp//Calendar 1.0//EN
BEGIN:VEVENT
METHOD:PUBLISH
UID:5686@regionalniportaly.cz
DTSTAMP:20260423T191300Z
DTSTART;VALUE=DATE:20160206
DTEND;VALUE=DATE:20160207
SUMMARY:Karneval v manéži
DESCRIPTION:
LOCATION:Rousínov
END:VEVENT
END:VCALENDAR