BEGIN:VCALENDAR
VERSION:2.0
CALSCALE:GREGORIAN
PRODID:-//MyApp//Calendar 1.0//EN
BEGIN:VEVENT
METHOD:PUBLISH
UID:56123@regionalniportaly.cz
DTSTAMP:20260424T100023Z
DTSTART;VALUE=DATE:20250730
DTEND;VALUE=DATE:20250731
SUMMARY:Huni Kuin - Koncert & Roda de Rapé
DESCRIPTION:Krásný den\, přátelé!Po roce máme tu čest opět přivítat naše vzácné hosty z Amazonie v Brně! Shane a Bixku\, domorodí obyvatelé pralesa z kmene Huni Kuin\, nám zazpívají a zahrají jejich tradiční i nové písně v krásném prostoru Kaprálova Mlýna. Součástí koncertu bude i krátká přednáška o medicíně rapé\, kterou bude na místě možnost v bezpečném prostoru vyzkoušet.Akce je benefiční\, vybraný zisk bude použit na podporu kulturního a spirituálního centra Txana Tuin ve vesnici Chico Curumim. Centrum slouží nejenom spirituálnímu rozvoji mladých\, ale poskytuje pro tamější obyvatele možnost soběstačnosti i v současných podmínkách.&nbsp\;= ZÁMĚR AKCE =V těchto časech\, více než kdykoliv předtím\, cítíme hlubokou potřebu se spojit s komunitním a tradičním způsobem života. V moderním světě jsme často zapomněli na jednoduché radosti života. Zapomněli jsme tančit\, zpívat a žít v souladu s přírodou\, která je naší součástí. Věříme\, že tradiční kultury z celého světa jsou strážci prastarých znalostí\, vědomostí a zvyků.Proto jsme se rozhodli přivést do Evropy naše drahé přátele z kmene Huni Kuin\, kteří slouží jako mosty mezi moderním světem a tradičním způsobem života. Společně se spojíme se Spiritem apokusíme se lépe porozumět tradiční moudrosti a vědomostem\, které lidé z kmene Huni Kuin nesou. Dozvíme se více o jejich legendách a propojení se s jednoduchou esencí života\, která senachází v nás všech.&nbsp\;= CO JE TO RAPÉ? =Rapé je posvátnou amazonskou medicínou\, tvořenou kombinací drceného tabáku mapacho a dalších rostlin\, které mohou obsahovat byliny\, kůry a popel ze speciálních dřev. Mapacho je druh tabáku s mnohem větší koncentrací nikotinu a prospěšných látek než běžný tabák\, který se používá v cigaretách. Směs rapé se suší\, jemně rozemílá a následně se fouká do nosu pomocí tzv. foukačky (tepi\, kuripe) do nosu.Používání rapé má různé účely\, včetně duchovních a léčebných. V domorodých tradicích se věří\, že rapé pomáhá otevírat smysly\, pročišťuje energetická centra\, zvyšuje soustředění a propojení s přírodou a duchy. Také může pomoci s fyzickými a emocionálními očistami při různých nemocích a nashromážděné negativní energii (tzv. panemě).&nbsp\;V rámci akce bude propojení s medicínou rapé dobrovolné a nebude za příplatek&nbsp\;&nbsp\;= O VYSTUPUJÍCÍCH =Shane a Bixku jsou členové skupiny KAYATIBU -hudební a spirituální skupiny domorodého kmene HuniKuin z amazonské džungle v Brazílii.Jako děti byly jejich sestry\, Yaka a Rita svědky toho\, jak mladí Huni Kuinové coby původní obyvatelé Amazonie ztrácejí svou kulturní identitu. Odhodláni provést změnu\, spojily své síly s ostatními členy rodiny a vytvořily kulturní hnutí zvané Kayatibu. Začaly organizovat setkání pro domorodou mládež\, kde se společně zpívají posvátné písně a modlitby\, a připojily se k uměleckému hnutí Mahku\, které založil jejich otec Ibã Sales Huni Kuin.Existence skupiny Kayatibu zdůrazňuje důležitost spojení s kořeny a úcty k tradičním znalostem. Jejich příběh povzbuzuje západní společnosti k většímu oceňování kulturní rozmanitosti\, přijetí vlastního dědictví a hledání hlubšího porozumění domorodé moudrosti a praktikám.
LOCATION:Ochoz u Brna
END:VEVENT
END:VCALENDAR