BEGIN:VCALENDAR
VERSION:2.0
CALSCALE:GREGORIAN
PRODID:-//MyApp//Calendar 1.0//EN
BEGIN:VEVENT
METHOD:PUBLISH
UID:5601@regionalniportaly.cz
DTSTAMP:20260423T152944Z
DTSTART;VALUE=DATE:20160130
DTEND;VALUE=DATE:20160131
SUMMARY:Sportovní ples TJ Šaratice
DESCRIPTION:Od 20:00 hodin\, sál OÚ Šaratice.
LOCATION:Šaratice
END:VEVENT
END:VCALENDAR