BEGIN:VCALENDAR
VERSION:2.0
CALSCALE:GREGORIAN
PRODID:-//MyApp//Calendar 1.0//EN
BEGIN:VEVENT
METHOD:PUBLISH
UID:5554@regionalniportaly.cz
DTSTAMP:20260423T092027Z
DTSTART;VALUE=DATE:20160122
DTEND;VALUE=DATE:20160123
SUMMARY:Myslivecký ples Těšany
DESCRIPTION:20.00 hod\, hraje skupina MODUL\, Těšany\, společenské centrum\, pořádá Myslivecké sdružení Těšany.
LOCATION:Těšany
END:VEVENT
END:VCALENDAR