BEGIN:VCALENDAR
VERSION:2.0
CALSCALE:GREGORIAN
PRODID:-//MyApp//Calendar 1.0//EN
BEGIN:VEVENT
METHOD:PUBLISH
UID:55328@regionalniportaly.cz
DTSTAMP:20260424T133842Z
DTSTART;VALUE=DATE:20250730
DTEND;VALUE=DATE:20250731
SUMMARY:Trojkolkou do Mongolska - Letní kino
DESCRIPTION:Trojkolkou do MongolskaVideá\, slideshow a rozprávanie s banskobystrickým cestovateľom Marekom Slobodníkom o veľkej ceste z Banskej Bystrice až do ďalekého Mongolska na trojkolke Honde ATC 200 s obojživelnými vozidlami Luaz 967\, alias Žltými žabami.Začalo sa to v roku 2012\, keď sme si pri každej rieke v Južnej Amerike vraveli\, chcelo by to plávajúce auto! O Luaze sme vedeli a tak neskôr počas expedície vznikla hláška „ALE LUAZ". Hneď ako sme sa vrátili domov\, cestovali sme na Ukrajinu\, kde sme si jedno takéto vozidlo kúpili a tak začal príbeh prvej obojživelnej výpravy. Marek Slobodník chcel ostať verný motocyklom\, preto pátral po takej\, ktorá sa na vode nepotopí a dopočul sa o Honde ATC 200. Prešlo neuveriteľných 11 rokov nekonečných príprav a byrokratických problémov od kúpy prvého Luaza po štart v roku 2024. Tak ako aj prípravy\, ani cesta nebola vôbec jednoduchá...Príďte si vypočuť rozprávanie o tom\, ako sme sa s obojživelnými vozidlami dostali až do ďalekého Mongolska. Z Európy naprieč Áziou cez najšialenejší štát v akom sme kedy boli\, Turkmenistan. Dozviete sa\, prečo sme hranice do Uzbekistanu prešli na lane. Prečo sa Honda ATC prestala vyrábať a prečo na nej nikto nikdy nikde nebol. Porozprávame sa o tom\, ako to vyzerá práve teraz v Rusku a čo sa nás pýtali na hraniciach. Spoznáte neskutočnú krásu pohoria Altaj. Uvidíte nielen to\, ako sme sa na našich vozidlách plavili\, ale aj sa topili. Ako sme boli slovami bez seba z nekonečnej krásy Mongolských plání. Ale nič z toho nebolo pre Mareka tak nádherné\, ako to čo zažil doma\, hneď po návrate...Siedmi cestovatelia\, 3 mesiace na cestách\, 14-tisíc kilometrov a nekonečne veľa problémov počas celej cesty „TROJKOLKOU DO MONGOLSKA"
LOCATION:Měnín
END:VEVENT
END:VCALENDAR