BEGIN:VCALENDAR
VERSION:2.0
CALSCALE:GREGORIAN
PRODID:-//MyApp//Calendar 1.0//EN
BEGIN:VEVENT
METHOD:PUBLISH
UID:54546@regionalniportaly.cz
DTSTAMP:20260424T170959Z
DTSTART;VALUE=DATE:20250613
DTEND;VALUE=DATE:20250614
SUMMARY:Jak vycvičit draka
DESCRIPTION:
LOCATION:Měnín
END:VEVENT
END:VCALENDAR