BEGIN:VCALENDAR
VERSION:2.0
CALSCALE:GREGORIAN
PRODID:-//MyApp//Calendar 1.0//EN
BEGIN:VEVENT
METHOD:PUBLISH
UID:53584@regionalniportaly.cz
DTSTAMP:20260424T114531Z
DTSTART;VALUE=DATE:20250620
DTEND;VALUE=DATE:20250621
SUMMARY:Elio
DESCRIPTION:
LOCATION:Měnín
END:VEVENT
END:VCALENDAR