BEGIN:VCALENDAR
VERSION:2.0
CALSCALE:GREGORIAN
PRODID:-//MyApp//Calendar 1.0//EN
BEGIN:VEVENT
METHOD:PUBLISH
UID:53092@regionalniportaly.cz
DTSTAMP:20260424T153213Z
DTSTART;VALUE=DATE:20250417
DTEND;VALUE=DATE:20250418
SUMMARY:Kurz výroby Pepíčkové tlačenky\, jitrnic a jelit
DESCRIPTION:17. dubna 2025 zahájení 16:30Kurz výroby Pepíčkové tlačenky\, jitrnic a jelitDen před velkým pátkem je den s velkým Pepíčkem v prostorech Kobylnické pálenice jen 5 minut od Brna !O kurzuV ceně odpoledního kurzu:Průvodce kurzem Josef Vašák - Pepíček4 hodinový zážitkový kurz špejlování jitrnic\, výroby tlačenky a jelítekPár piv s Pepíčkem v ceněZapůjčení nástrojů\, které budete u kurzu potřebovat&nbsp\;S sebou domůjistrničky. tlačenky a i jelítka tvé vlastní výroby&nbsp\;dárek od PepíčkaCo se naučíšPepíček tě provede od prvních kroků přípravy tlačenky a poctivých jitrniček i jelítek.Naučíš se připravit maso jako profík.Budeš se učit grify mistra ČR a rekordmana v rychlosti koštění vepřové plece.Co vytvoříšPřipravíš maso a fantastické jitrničky\, jako bys byl řeznický mistr. S těmito kousky se potom můžeš pochlubit svým blízkým\, protože všechny vyrobené jitrnice si odneseš domů.Co si odneseš domůKromě skvělého a nezapomenutelného zážitku si odneseš domů vše\, co jsi vytvořil\, abys své nové dovednosti mohl sdílet se svými blízkými.&nbsp\;
LOCATION:Kobylnice
END:VEVENT
END:VCALENDAR