BEGIN:VCALENDAR
VERSION:2.0
CALSCALE:GREGORIAN
PRODID:-//MyApp//Calendar 1.0//EN
BEGIN:VEVENT
METHOD:PUBLISH
UID:52668@regionalniportaly.cz
DTSTAMP:20260422T113708Z
DTSTART;VALUE=DATE:20250904
DTEND;VALUE=DATE:20250905
SUMMARY:Sirény na cestách
DESCRIPTION:SIRÉNY NA CESTÁCH Zveme vás na zábavnou talk show&nbsp\;ženské trojice hereček a&nbsp\;zpěvaček Sandry POGODOVÉ\, Jitky ASTEROVÉ a Lindy FINKOVÉ - "SIRÉNY NA CESTÁCH". Jejich neotřelý&nbsp\;smysl pro humor a vzájemná chuť si ze sebe utahovat vás rozhodně pobaví.Pořad je plný šťavnatých vyprávění a historek ze zákulisí natáčení a&nbsp\;divadelního světa. To vše prošpikováno šansony a písněmi z muzikálů tvoří dokonalý program\, na který budete dlouho vzpomínat s úsměvem na tváři.Po&nbsp\;skončení pořadu následuje autogramiáda.
LOCATION:Měnín
END:VEVENT
END:VCALENDAR