BEGIN:VCALENDAR
VERSION:2.0
CALSCALE:GREGORIAN
PRODID:-//MyApp//Calendar 1.0//EN
BEGIN:VEVENT
METHOD:PUBLISH
UID:52585@regionalniportaly.cz
DTSTAMP:20260422T091639Z
DTSTART;VALUE=DATE:20250615
DTEND;VALUE=DATE:20250616
SUMMARY:Zdeněk Král / Missa brevis benefiční koncert
DESCRIPTION:Zdeněk Král je současný český pianista\, skladatel a autor dětských knih. Je autorem hudby k téměř stovce divadelních\, filmových a rozhlasových projektů\, autorem desítky komorních\, symfonických a sborových skladeb\, oper\, muzikálů\, scénické hudby\, písní i šansonů. Natočil 5 sólových klavírních alb\, a více než 50 alb s různými interprety. Missa brevis byla koncipována jako rozsáhlejší duchovní skladba pro smíšený komorní sbor\, sóla (soprán a baryton/tenor) a komorní orchestr\, a to i přes to\, že je obecně označována jako „krátká mše“. Je zde zachováno standardní pořadí částí mešního ordinária: Kyrie\, Gloria\, Credo\, Sanctus\, Benedictus\, Agnus Dei. Ačkoliv se jedná o soudobou\, aktuální kompozici\, je napsána nekomplikovaným jazykem a postavena na silném emocionálním a duchovním zážitku.Výtěžek koncertu bude věnován farnosti Vranov u Brna na charitativní účely.
LOCATION:Vranov
END:VEVENT
END:VCALENDAR