BEGIN:VCALENDAR
VERSION:2.0
CALSCALE:GREGORIAN
PRODID:-//MyApp//Calendar 1.0//EN
BEGIN:VEVENT
METHOD:PUBLISH
UID:50762@regionalniportaly.cz
DTSTAMP:20260424T201148Z
DTSTART;VALUE=DATE:20250322
DTEND;VALUE=DATE:20250323
SUMMARY:ZuZu Kabaret
DESCRIPTION:ZuZu kabaret míří do Újezda u Brna! &nbsp\;Bude to opět velkolepé a plné originální zábavy!Zažijte jedinečný večer\, který vás přenese do zlaté éry kabaretů a světa umění inspirované &nbsp\;legendárními scénami světových muzikálů.Přeneseme Vás do&nbsp\;světa\, pařížského Moulin Rouge či slavného Kit Kat kabaretu v Berlíně.Večer\, kde se snoubí elegance s vášní\, přináší neopakovatelnou podívanou plnou emocí\, hudby a strhujícího vystoupení. Každé číslo je pečlivě připravené tak\, aby vám představilo&nbsp\;pravé kabaretní&nbsp\;umění inspirované nejen začátky&nbsp\;minulého století.Čekají vás svůdná burleskní vystoupení\, okouzlující taneční choreografie\, dechberoucí akrobatické prvky a hudební čísla\, která vás pohltí svou energií. Připravte se na smích\, napětí i vzrušení\, které vás provedou večerem plným překvapení.Součástí večera je též tombola\, ve které si zahrajete o hodnotné ceny!Nechte se unést kouzlem kabaretního světa a vychutnejte si prvotřídní show\, která ve vás zanechá nezapomenutelný zážitek.Těšíme se na vás!&nbsp\;&nbsp\;&nbsp\;&nbsp\;Cena vstupenky bude na místě o 10% dražší. &nbsp\;&nbsp\;&nbsp\;&nbsp\;
LOCATION:Újezd u Brna
END:VEVENT
END:VCALENDAR