BEGIN:VCALENDAR
VERSION:2.0
CALSCALE:GREGORIAN
PRODID:-//MyApp//Calendar 1.0//EN
BEGIN:VEVENT
METHOD:PUBLISH
UID:50463@regionalniportaly.cz
DTSTAMP:20260424T152439Z
DTSTART;VALUE=DATE:20250221
DTEND;VALUE=DATE:20250222
SUMMARY:Vandráci na ostrově lidojedů
DESCRIPTION:Po úspěšném vandráckém představení Střední Ameriky 2018\,&nbsp\;se kterým Jan Révai a Pavel Liška objeli celou naši republiku se nyní kluci vrací se zbrusu novým vyprávěním.&nbsp\;Tentokrát se vrátili z druhého největšího ostrova světa\, ostrova lidojedů\, z tajemné Papuy Nové Guinei.&nbsp\;A budou o tom vyprávět na této besedě.Dozvíte se\, koho si kluci vzali na cestu s sebou\, aby na ně na ostrově dohlížel a ochraňoval před černou magií… a komu tím chtěli zároveň vyplnit jeho poslední velké přání. Prozradí\, co je na ostrově nemile překvapilo\, i čím je naopak divoká Papua učarovala. Přiznají se\, kde si všichni tři sáhli na úplné dno\, aby za to mohli být nevídaně obdarováni. A povypráví i o tom\, co jim tahle poslední divočina na Zemi nemilosrdně nedarovala. Možná zahrají i kousek loutkového divadýlka\, které si vezli na motorce celou cestu s sebou a které hráli domorodcům\, aby k nim nepřijížděli&nbsp\;tři bílí muži s prázdnou. No a&nbsp\;taky aby je hned nesežrali.&nbsp\;
LOCATION:Telnice
END:VEVENT
END:VCALENDAR