BEGIN:VCALENDAR
VERSION:2.0
CALSCALE:GREGORIAN
PRODID:-//MyApp//Calendar 1.0//EN
BEGIN:VEVENT
METHOD:PUBLISH
UID:50118@regionalniportaly.cz
DTSTAMP:20260424T131832Z
DTSTART;VALUE=DATE:20250219
DTEND;VALUE=DATE:20250220
SUMMARY:Networking coffee Rajhrad / host Hanka Grmelová
DESCRIPTION:Chcete se potkat v komorní skupině příjemně naladěných lidí?Hledáte nějaký kontakt\, ať už na kominíka\, grafika\, fotografa či pekaře? Pojďme společně rozhodit sítě a zalovit ve vodách nových kontaktů.Nebo se jen chcete inspirovat a nastartovat své podnikání?Přijďte na příjemné setkání s inspirativními lidmi\, kteří chtějí svůj život řídit sami.&nbsp\;Při dobré kávě a&nbsp\;bohatém občerstvení.A ať už patříte mezi zkušené networkery nebo to bude vaše premiéra\, přijďte navázat nové kontakty\, sdílet reference\, kontakty\, doporučení\, ale i znalosti a tipy\, jak snadněji a radostněji tvořit i pracovat.Host: Hanka Grmelová&nbsp\;Networking začíná v 9:00 hodin\, scházet se můžeme již od 8:45 hodin.POZOR! ZMĚNA MÍSTA! Nyní se budeme scházet v zasedací místnosti L.E.S. Therapy\, kterou najdete v 1. patře budovy LACu na Štefánikově 116. Parkovat lze u Tesca. (od Lístek.Kafe jen kousek)Program:08:30 - 09:00 - příchod09:00 - 10:00 - představení všech účastníků networkingu10:00 - 10:40 - host networkingu10:45 - 11:30 - volný networkingV případě velkého zájmu rádi přidáme další termín. Pokud byste měli zájem o odpolední termín\, dejte nám prosím vědět na katka@kavateam.cz nebo telefonicky na 777 668 139.Těší se na vás Kačka Eichi Bilíková\, Lucie Bulová
LOCATION:Rajhrad
END:VEVENT
END:VCALENDAR