BEGIN:VCALENDAR
VERSION:2.0
CALSCALE:GREGORIAN
PRODID:-//MyApp//Calendar 1.0//EN
BEGIN:VEVENT
METHOD:PUBLISH
UID:49235@regionalniportaly.cz
DTSTAMP:20260424T082429Z
DTSTART;VALUE=DATE:20250801
DTEND;VALUE=DATE:20250802
SUMMARY:Lughnasad
DESCRIPTION:Mezinárodní\, keltský festival LughnasadVítej dobrodruhu na předzvěstech události\, jež v tobě opět zažehne oheň keltských radovánek.Věz\, že čas bohů a duchů se nachýlil. Přichází čas poděkování za úrodu\, což jest třeba nebetyčně oslavit.Přichází období hojnosti\, přichází svátek Lughnasad !&nbsp\;1. a 2.8 2025&nbsp\;se kroky poutníků vydají směrem k pestrému a veselému reji. Zázemí nalezneme tentokrát na novém místě a to na&nbsp\;Keltském opidobunkriu Staré Hoře (VZA Bunkr)\, kousek za Brnem.
LOCATION:Mokrá-Horákov
END:VEVENT
END:VCALENDAR