BEGIN:VCALENDAR
VERSION:2.0
CALSCALE:GREGORIAN
PRODID:-//MyApp//Calendar 1.0//EN
BEGIN:VEVENT
METHOD:PUBLISH
UID:47861@regionalniportaly.cz
DTSTAMP:20260424T175407Z
DTSTART;VALUE=DATE:20241208
DTEND;VALUE=DATE:20241209
SUMMARY:Dominika na cestě: Sama v Saúdské Arábii
DESCRIPTION:Dominika na cestě: SAMA V&nbsp\;SAÚDSKÉ ARÁBIIŽivé vyprávění české cestovatelky o neobyčejné sólo cestě na motorce Saúdskou Arábií\, ale taky o Kuvajtu\, Bahrajnu a Kataru.„Neboj\, mám známé u policie\, za tohle nás nikdo nezavře..."Zahalené ženy\, popravy a strach bylo to první\, co přišlo na mysl. Když se česká cestovatelka Dominika Gawliczková vydala sama na motorce do Saúdské Arábie\, jedné z&nbsp\;nejuzavřenějších zemí světa\, počítala s&nbsp\;tím\, že ji možná nepustí přes hranice.Netušila\, že na ni čeká snové dobrodružství jako ze starých knih nebo akčních filmů.Zažila\, jak tráví čas bohatá saúdskoarabská smetánka\, stanovala na rozstříleném ostrově\, v&nbsp\;poušti hledala zatoulanou antilopu\, vloupala se do zavřené restaurace a před vedrem se schovala v&nbsp\;lednici v&nbsp\;náklaďáku. Ty nejzajímavější momenty se ale odehrávaly jinde\, při klidném popíjení čaje a kávy s&nbsp\;místními rodinami u nich doma.Saúdská Arábie se rychle otevírá. Počet poprav se ale téměř zdvojnásobil. Jak to jde dohromady? Nahlédněte za vysoké zdi saúdskoarabských domů – co se stane\, když Saúdky vytáhnou zakázaný alkohol\, co skrývají před rodinou\, co si myslí o homosexuálech a je cool mít čtyři manželky?10&nbsp\;000 kilometrů\, 6 měsíců\, 5 zemí\, 39 obědů a večeří s&nbsp\;místními\, 16 návštěv u nich doma\, 926 volání k&nbsp\;modlitbě\, 8 vodních dýmek\, 4 skleničky vína\, 1 ramadán\, 1 pokuta&nbsp\;
LOCATION:Měnín
END:VEVENT
END:VCALENDAR