BEGIN:VCALENDAR
VERSION:2.0
CALSCALE:GREGORIAN
PRODID:-//MyApp//Calendar 1.0//EN
BEGIN:VEVENT
METHOD:PUBLISH
UID:46572@regionalniportaly.cz
DTSTAMP:20260424T171344Z
DTSTART;VALUE=DATE:20241025
DTEND;VALUE=DATE:20241026
SUMMARY:DJ Boris DISCO - Pozořice
DESCRIPTION:Legendární akce DJ Boris ®️ znovu v Pozořicích (Sokolovna) 👍Koná se v pátek 25. října 2024 od 20:00 hod. 💿Po celou noc hity současné i minulé v originálních verzích\, které zaručeně znáte 😉🎶🎵Hudba různých žánrů - DISCO\, POP\, ROCK\, ČESKÉ a SLOVENSKÉ\, OSMDESÁTKY\, DEVADESÁTKY\, OLDIES...Zajištěno bohaté občerstvení včetně točeného piva a míchaných drinků.Kvalitní zvuk a světla\, laser show.Na Vaši bezpečnost bude dohlížet profesionální security služba.Otevřeno od 20:00 hod.Minimální věkový limit pro vstup: 16 letVstup na místě: 150 KčPředprodej SMS ticket:1.vlna 100 Kč2.vlna 130 Kč3.vlna 150 KčAkci pořádá: Magic Events
LOCATION:Sivice
END:VEVENT
END:VCALENDAR