BEGIN:VCALENDAR
VERSION:2.0
CALSCALE:GREGORIAN
PRODID:-//MyApp//Calendar 1.0//EN
BEGIN:VEVENT
METHOD:PUBLISH
UID:46464@regionalniportaly.cz
DTSTAMP:20260424T152008Z
DTSTART;VALUE=DATE:20241013
DTEND;VALUE=DATE:20241014
SUMMARY:Rozzum v divočině
DESCRIPTION:
LOCATION:Měnín
END:VEVENT
END:VCALENDAR