BEGIN:VCALENDAR
VERSION:2.0
CALSCALE:GREGORIAN
PRODID:-//MyApp//Calendar 1.0//EN
BEGIN:VEVENT
METHOD:PUBLISH
UID:46450@regionalniportaly.cz
DTSTAMP:20260424T164354Z
DTSTART;VALUE=DATE:20241018
DTEND;VALUE=DATE:20241019
SUMMARY:Amerikánka
DESCRIPTION:Vracíš se na místa. Na místa\, kde jsi vyrůstala. Třeseš se. Potíš se. Polykáš. Nemůžeš se vyhnout vzpomínkám. Některý jsou jako pestrý obrazy. Některý\, jak rány pěstí. Děcák za komunistů. Pěstouni. Pasťák. A pak samet. A svoboda\, se kterou nevíš\, jak naložit. Stokrát jsi padla. Ale stokrát zase vstala. Nedostali tě!Režie: Viktor TaušDélka filmu: 110 minut&nbsp\;
LOCATION:Měnín
END:VEVENT
END:VCALENDAR